BEGIN:VCALENDAR
VERSION:2.0
PRODID:-//Squarespace Inc/Squarespace 6//v6//EN
BEGIN:VEVENT
UID:5da65baa93cbcb191eea247b@squarespace.com
DTSTAMP:20191015T235454Z
DTSTART:20191113T230000Z
DTEND:20191114T003000Z
SUMMARY:Events and Funding - Ballarat
GEO:-37.564914;143.883741
LOCATION:Eureka Centre Ballarat\, 102 Stawell Street South\, Eureka\, VIC\, 
 3350\, Australia
END:VEVENT
END:VCALENDAR
