BEGIN:VCALENDAR
VERSION:2.0
PRODID:-//Squarespace Inc/Squarespace 6//v6//EN
BEGIN:VEVENT
UID:5da65ac805344470bb5ef4db@squarespace.com
DTSTAMP:20191015T235159Z
DTSTART:20191106T230000Z
DTEND:20191107T003000Z
SUMMARY:Events Marketing - Social Media for Events
GEO:-37.564914;143.883741
LOCATION:Eureka Centre Ballarat\, 102 Stawell Street South\, Eureka\, VIC\, 
 3350\, Australia
END:VEVENT
END:VCALENDAR
