BEGIN:VCALENDAR
VERSION:2.0
PRODID:-//Squarespace Inc/Squarespace 6//v6//EN
BEGIN:VEVENT
UID:5e40da0bd8d2da072ea6e60d@squarespace.com
DTSTAMP:20200220T052400Z
DTSTART:20200224T140000Z
DTEND:20200228T220000Z
SUMMARY:Exhibition - Themes of Gender Equality and Cultural Identity
GEO:-37.56405;143.869038
LOCATION:Centre for Multicultural Youth (Ballarat)\, 25-39 Barkly Street\, 
 Ballarat East\, VIC\, 3350\, Australia
END:VEVENT
END:VCALENDAR
