BEGIN:VCALENDAR
VERSION:2.0
PRODID:-//Squarespace Inc/Squarespace 6//v6//EN
BEGIN:VEVENT
UID:6019d86eff903c17b7c0e550@squarespace.com
DTSTAMP:20210202T225851Z
DTSTART:20210501T000000Z
DTEND:20210801T070000Z
SUMMARY:Exhibition: Out of the darkness: A survivor’s journey
GEO:-37.560436;143.858291
LOCATION:Art Gallery of Ballarat\, 40 Lydiard Street North\, Ballarat Centr
 al\, VIC\, 3350\, Australia
END:VEVENT
END:VCALENDAR
