BEGIN:VCALENDAR
VERSION:2.0
PRODID:-//Squarespace Inc/Squarespace 6//v6//EN
BEGIN:VEVENT
UID:5da508979e0ada5e379885b6@squarespace.com
DTSTAMP:20191014T235412Z
DTSTART:20191115T230000Z
DTEND:20191116T010000Z
SUMMARY:EYE 2019
GEO:-37.563504;143.857468
LOCATION:Mining Exchange\, Lydiard Street South\, Ballarat Central\, VIC\, 
 3350\, Australia
END:VEVENT
END:VCALENDAR
