BEGIN:VCALENDAR
VERSION:2.0
PRODID:-//Squarespace Inc/Squarespace 6//v6//EN
BEGIN:VEVENT
UID:5d09d4294567f00001d04297@squarespace.com
DTSTAMP:20190627T003947Z
DTSTART:20190714T180000Z
DTEND:20190714T190000Z
SUMMARY:Facing up
END:VEVENT
END:VCALENDAR
