BEGIN:VCALENDAR
VERSION:2.0
PRODID:-//Squarespace Inc/Squarespace 6//v6//EN
BEGIN:VEVENT
UID:5d64d2eda3922400019343e2@squarespace.com
DTSTAMP:20190827T065407Z
DTSTART:20191004T030000Z
DTEND:20191013T030000Z
SUMMARY:Fed Uni Season 2 - Heathers
GEO:-37.561274;143.858911
LOCATION:Federation University Ballarat\, Helen Macpherson Smith Theatre\, 
 Camp Street Campus\, Ballarat Central
END:VEVENT
END:VCALENDAR
