BEGIN:VCALENDAR
VERSION:2.0
PRODID:-//Squarespace Inc/Squarespace 6//v6//EN
BEGIN:VEVENT
UID:5d64d24e66ff76000128d1ee@squarespace.com
DTSTAMP:20190827T065125Z
DTSTART:20190918T040000Z
DTEND:20190922T040000Z
SUMMARY:Fed Uni Season 2 - The Northern Lass
GEO:-37.561274;143.858911
LOCATION:Federation University Ballarat\, Helen Macpherson Smith Theatre\, 
 Camp Street Campus\, Ballarat Central
END:VEVENT
END:VCALENDAR
