BEGIN:VCALENDAR
VERSION:2.0
PRODID:-//Squarespace Inc/Squarespace 6//v6//EN
BEGIN:VEVENT
UID:5da3ece1fc04ba428c518cc0@squarespace.com
DTSTAMP:20191014T033842Z
DTSTART:20191103T150000Z
DTEND:20191103T170000Z
SUMMARY:Fifteen Trees Ephemeral Art at Food Is Free Green Space
GEO:40.720756;-74.000761
LOCATION:Food is Free Laneway\, 212 Ripon Street South\, Ballarat Central\, 
 VIC\, 3350\, Australia
END:VEVENT
END:VCALENDAR
