BEGIN:VCALENDAR
VERSION:2.0
PRODID:-//Squarespace Inc/Squarespace 6//v6//EN
BEGIN:VEVENT
UID:5d8b07a4cd9b0171308ea0c5@squarespace.com
DTSTAMP:20190925T063528Z
DTSTART:20191107T150000Z
DTEND:20191113T220000Z
SUMMARY:Frolic Festival
GEO:-37.562159;143.850256
LOCATION:Various\, Ballarat
END:VEVENT
END:VCALENDAR
