BEGIN:VCALENDAR
VERSION:2.0
PRODID:-//Squarespace Inc/Squarespace 6//v6//EN
BEGIN:VEVENT
UID:5db11dc92702b60b7e72ab91@squarespace.com
DTSTAMP:20191024T034718Z
DTSTART:20191105T223000Z
DTEND:20191105T233000Z
SUMMARY:George Higinbotham and Eureka – The Struggle for Democracy in Colon
 ial Victoria with Geraldine Moore
END:VEVENT
END:VCALENDAR
