BEGIN:VCALENDAR
VERSION:2.0
PRODID:-//Squarespace Inc/Squarespace 6//v6//EN
BEGIN:VEVENT
UID:5e1e7954c7e17a1fcbfbaf6d@squarespace.com
DTSTAMP:20200115T023553Z
DTSTART:20200226T173000Z
DTEND:20200226T183000Z
SUMMARY:Greg Binns Memorial Lecture
GEO:-37.560436;143.858291
LOCATION:Art Gallery of Ballarat\, 40 Lydiard Street North\, Ballarat Centr
 al\, VIC\, 3350\, Australia
END:VEVENT
END:VCALENDAR
