BEGIN:VCALENDAR
VERSION:2.0
PRODID:-//Squarespace Inc/Squarespace 6//v6//EN
BEGIN:VEVENT
UID:5e334f7178d5f55da08dff7b@squarespace.com
DTSTAMP:20200130T215907Z
DTSTART:20200220T200000Z
DTEND:20200220T220000Z
SUMMARY:Growing Regional Arts Audiences - Insights from the Audience Atlas 
 Victoria Research
GEO:-37.560436;143.858291
LOCATION:Art Gallery of Ballarat\, 40 Lydiard Street North\, Ballarat Centr
 al\, VIC\, 3350\, Australia
END:VEVENT
END:VCALENDAR
