BEGIN:VCALENDAR
VERSION:2.0
PRODID:-//Squarespace Inc/Squarespace 6//v6//EN
BEGIN:VEVENT
UID:5e4f2756e83948148048b430@squarespace.com
DTSTAMP:20200221T004546Z
DTSTART:20200301T010000Z
DTEND:20200301T020000Z
SUMMARY:Hamish Kilgour (NZ) with Permits &amp\; Lymes 
GEO:-37.559137;143.867559
LOCATION:The Eastern\, 81 Humffray Street North\, Ballarat East\, VIC\, 335
 0\, Australia
END:VEVENT
END:VCALENDAR
