BEGIN:VCALENDAR
VERSION:2.0
PRODID:-//Squarespace Inc/Squarespace 6//v6//EN
BEGIN:VEVENT
UID:5e40db41ea5b49472388e96e@squarespace.com
DTSTAMP:20200210T042835Z
DTSTART:20200214T233000Z
DTEND:20200215T023000Z
SUMMARY:Harry Lamb Live at the Lane
GEO:-37.560792;143.857702
LOCATION:The George Hotel - The Lane\, 27 Lydiard Street North\, Ballarat C
 entral\, VIC\, 3350\, Australia
END:VEVENT
END:VCALENDAR
