BEGIN:VCALENDAR
VERSION:2.0
PRODID:-//Squarespace Inc/Squarespace 6//v6//EN
BEGIN:VEVENT
UID:5ff25d0a6ed34a73678b1c67@squarespace.com
DTSTAMP:20210104T001624Z
DTSTART:20210205T080000Z
DTEND:20210205T110000Z
SUMMARY:Harry Quail Collective at the Main Bar
GEO:-37.563316;143.864823
LOCATION:The Main Bar\, 22-26 Main Road\, Ballarat East\, VIC\, 3350\, Aust
 ralia
END:VEVENT
END:VCALENDAR
