BEGIN:VCALENDAR
VERSION:2.0
PRODID:-//Squarespace Inc/Squarespace 6//v6//EN
BEGIN:VEVENT
UID:5d2e82289bebad0001ed8f18@squarespace.com
DTSTAMP:20190717T022506Z
DTSTART:20190817T173000Z
DTEND:20190817T210000Z
SUMMARY:Ballarats' Biggest Clothes Swap
END:VEVENT
END:VCALENDAR
