BEGIN:VCALENDAR
VERSION:2.0
PRODID:-//Squarespace Inc/Squarespace 6//v6//EN
BEGIN:VEVENT
UID:5e1bc7793a904b6e1b5e6804@squarespace.com
DTSTAMP:20200120T224822Z
DTSTART:20200207T230000Z
DTEND:20200210T030000Z
SUMMARY:Rock Ballarat Rock n Roll Rockabilly Festival
GEO:-37.562159;143.850256
LOCATION:Ballarat\, Austalia
END:VEVENT
END:VCALENDAR
