BEGIN:VCALENDAR
VERSION:2.0
PRODID:-//Squarespace Inc/Squarespace 6//v6//EN
BEGIN:VEVENT
UID:5cebb3afe4966b600dd45d88@squarespace.com
DTSTAMP:20190527T095913Z
DTSTART:20190615T144500Z
DTEND:20190615T160000Z
SUMMARY:In Conversation with Lee Kofman
GEO:-37.558143;143.85574
LOCATION:Ballarat Library\, 178 Doveton Street North\, Ballarat Central\, V
 IC\, 3350\, Australia
END:VEVENT
END:VCALENDAR
