BEGIN:VCALENDAR
VERSION:2.0
PRODID:-//Squarespace Inc/Squarespace 6//v6//EN
BEGIN:VEVENT
UID:5e15512abd1e1f4248261394@squarespace.com
DTSTAMP:20200108T035743Z
DTSTART:20200120T233000Z
DTEND:20200121T013000Z
SUMMARY:Introduction to DSLR Photography
GEO:-37.565248;143.862313
LOCATION:Eastwood Leisure Complex\, 20 Eastwood Street\, Ballarat\, Austral
 ia
END:VEVENT
END:VCALENDAR
