BEGIN:VCALENDAR
VERSION:2.0
PRODID:-//Squarespace Inc/Squarespace 6//v6//EN
BEGIN:VEVENT
UID:5e4f288d52d2112df962cd02@squarespace.com
DTSTAMP:20200221T004954Z
DTSTART:20200314T230000Z
DTEND:20200315T020000Z
SUMMARY:Kingswood 
GEO:-37.560588;143.859378
LOCATION:Volta\, 15 Field Street\, Ballarat Central\, VIC\, 3350\, Australi
 a
END:VEVENT
END:VCALENDAR
