BEGIN:VCALENDAR
VERSION:2.0
PRODID:-//Squarespace Inc/Squarespace 6//v6//EN
BEGIN:VEVENT
UID:5cf85f579bc6910001013505@squarespace.com
DTSTAMP:20190606T003545Z
DTSTART:20190923T233000Z
DTEND:20190924T003000Z
SUMMARY:Kris Kristofferson and The Strangers
GEO:-37.558782;143.856068
LOCATION:Ballarat Civic Hall\, 300-304 Mair Street\, Ballarat Central\, VIC
 \, 3350\, Australia
END:VEVENT
END:VCALENDAR
