BEGIN:VCALENDAR
VERSION:2.0
PRODID:-//Squarespace Inc/Squarespace 6//v6//EN
BEGIN:VEVENT
UID:5fe2cb87cbb9a64fc78515b8@squarespace.com
DTSTAMP:20201223T045003Z
DTSTART:20210116T070000Z
DTEND:20210116T100000Z
SUMMARY:LadderFrame Fundraiser for Fire Relief and the Arts
GEO:-37.567489;143.854357
LOCATION:The Mallow Hotel\, 18/22 Skipton St\, Ballarat
END:VEVENT
END:VCALENDAR
