BEGIN:VCALENDAR
VERSION:2.0
PRODID:-//Squarespace Inc/Squarespace 6//v6//EN
BEGIN:VEVENT
UID:5cf85deb4043160001f13872@squarespace.com
DTSTAMP:20190606T003022Z
DTSTART:20191117T010000Z
DTEND:20191117T020000Z
SUMMARY:Lee Kernaghan - Backroad Nation Tour
GEO:-37.558782;143.856068
LOCATION:Ballarat Civic Hall\, 300-304 Mair Street\, Ballarat Central\, VIC
 \, 3350\, Australia
END:VEVENT
END:VCALENDAR
