BEGIN:VCALENDAR
VERSION:2.0
PRODID:-//Squarespace Inc/Squarespace 6//v6//EN
BEGIN:VEVENT
UID:5d9aa35e64d4b90d465cb96f@squarespace.com
DTSTAMP:20191007T023320Z
DTSTART:20191107T000000Z
DTEND:20191107T010000Z
SUMMARY:Leonard Cohen: Songs &amp\; Poems
GEO:-37.562769;143.857346
LOCATION:Craigs Royal Hotel\, 10 Lydiard Street South\, Ballarat
END:VEVENT
END:VCALENDAR
