BEGIN:VCALENDAR
VERSION:2.0
PRODID:-//Squarespace Inc/Squarespace 6//v6//EN
BEGIN:VEVENT
UID:5e335d83ebb36847c1e4e7c1@squarespace.com
DTSTAMP:20200130T225820Z
DTSTART:20200201T200000Z
DTEND:20200201T230000Z
SUMMARY:Liaison @ Cubby Haus
GEO:-37.577778;143.849735
LOCATION:Cubby Haus\, 884 Humffray Street South\, Mount Pleasant\, VIC\, 33
 50\, Australia
END:VEVENT
END:VCALENDAR
