BEGIN:VCALENDAR
VERSION:2.0
PRODID:-//Squarespace Inc/Squarespace 6//v6//EN
BEGIN:VEVENT
UID:5e1f89c2191a37330ba01c04@squarespace.com
DTSTAMP:20200115T220944Z
DTSTART:20200203T150000Z
DTEND:20200802T210000Z
SUMMARY:EXHIBITION: LILY MAE MARTIN: OVERBURDEN
GEO:-37.564914;143.883741
LOCATION:Eureka Centre\, 102 Stawell Street South\, Eureka\, VIC\, 3350\, A
 ustralia
END:VEVENT
END:VCALENDAR
