BEGIN:VCALENDAR
VERSION:2.0
PRODID:-//Squarespace Inc/Squarespace 6//v6//EN
BEGIN:VEVENT
UID:5e277723d0b67c2c2df32043@squarespace.com
DTSTAMP:20200121T222110Z
DTSTART:20200216T150000Z
DTEND:20200216T210000Z
SUMMARY: Linocut printing workshop with Jazmina Cininas
GEO:-37.560436;143.858291
LOCATION:Art Gallery of Ballarat\, 40 Lydiard Street North\, Ballarat
END:VEVENT
END:VCALENDAR
