BEGIN:VCALENDAR
VERSION:2.0
PRODID:-//Squarespace Inc/Squarespace 6//v6//EN
BEGIN:VEVENT
UID:5d37ce05f1069e0001cfb7cc@squarespace.com
DTSTAMP:20190724T034659Z
DTSTART:20190824T140000Z
DTEND:20191020T140000Z
SUMMARY:Ballarat International Foto Biennale: Liu Bolin (China)
GEO:-37.560436;143.858291
LOCATION:Art Gallery of Ballarat\, 40 Lydiard Street North\, Ballarat Centr
 al\, VIC\, 3350\, Australia
END:VEVENT
END:VCALENDAR
