BEGIN:VCALENDAR
VERSION:2.0
PRODID:-//Squarespace Inc/Squarespace 6//v6//EN
BEGIN:VEVENT
UID:5d79ac0809136e5b3be445f9@squarespace.com
DTSTAMP:20190912T044505Z
DTSTART:20190911T140000Z
DTEND:20191006T082959Z
SUMMARY:MARGARET DELAHUNTY SPENCER AND MARY VAN DEN BROEK: OUR PLACE AND…
GEO:-37.56102;143.859343
LOCATION:Backspace Gallery\, Alfred Deakin Place\, Camp Street\, Ballarat\, 
 Australia
END:VEVENT
END:VCALENDAR
