BEGIN:VCALENDAR
VERSION:2.0
PRODID:-//Squarespace Inc/Squarespace 6//v6//EN
BEGIN:VEVENT
UID:5da656443aaf2b79909aff01@squarespace.com
DTSTAMP:20191015T233413Z
DTSTART:20191031T130000Z
DTEND:20191031T140000Z
SUMMARY:Marketing Your Events - ATDW Sessions
GEO:-37.562208;143.856619
LOCATION:Ballarat Town Hall\, 225 Sturt Street\, Ballarat
END:VEVENT
END:VCALENDAR
