BEGIN:VCALENDAR
VERSION:2.0
PRODID:-//Squarespace Inc/Squarespace 6//v6//EN
BEGIN:VEVENT
UID:5da65784969104796c28c6c8@squarespace.com
DTSTAMP:20191015T233709Z
DTSTART:20191016T000000Z
DTEND:20191016T010000Z
SUMMARY:Marketing your Events - Get your Event Listed on VisitBallarat.co..
 au
END:VEVENT
END:VCALENDAR
