BEGIN:VCALENDAR
VERSION:2.0
PRODID:-//Squarespace Inc/Squarespace 6//v6//EN
BEGIN:VEVENT
UID:5e3362ed1e0a955bfd565676@squarespace.com
DTSTAMP:20200130T231507Z
DTSTART:20200207T230000Z
DTEND:20200208T020000Z
SUMMARY:Matty Chaps Live on the Boatshed Deck
GEO:-37.549602;143.833824
LOCATION:Boatshed\, 27A Lake Wendouree Foreshore\, Lake Wendouree
END:VEVENT
END:VCALENDAR
