BEGIN:VCALENDAR
VERSION:2.0
PRODID:-//Squarespace Inc/Squarespace 6//v6//EN
BEGIN:VEVENT
UID:5e1e7fcb24911f3b79965c73@squarespace.com
DTSTAMP:20200115T031751Z
DTSTART:20200208T150000Z
DTEND:20200208T210000Z
SUMMARY:Maverick Salon - Story Workshop
GEO:-37.560255;143.857809
LOCATION:Regent Cinema\, 49 Lydiard Street\, Ballarat
END:VEVENT
END:VCALENDAR
