BEGIN:VCALENDAR
VERSION:2.0
PRODID:-//Squarespace Inc/Squarespace 6//v6//EN
BEGIN:VEVENT
UID:5e1bf1fc3796b244232670b9@squarespace.com
DTSTAMP:20200113T044804Z
DTSTART:20200229T150000Z
DTEND:20200229T210000Z
SUMMARY:Meet the Makers
GEO:-37.592544;143.839407
LOCATION:Lions Club Brown Hill
END:VEVENT
END:VCALENDAR
