BEGIN:VCALENDAR
VERSION:2.0
PRODID:-//Squarespace Inc/Squarespace 6//v6//EN
BEGIN:VEVENT
UID:5e20df892ea93e14b2b0e1dc@squarespace.com
DTSTAMP:20200116T221707Z
DTSTART:20200126T200000Z
DTEND:20200126T220000Z
SUMMARY:Basement Session: Michael Westlake - The Lost Ones Gallery and Base
 ment Bar
GEO:-37.5614;143.859526
LOCATION:The Lost Ones Basement Bar\, 14 Camp Street\, Ballarat
END:VEVENT
END:VCALENDAR
