BEGIN:VCALENDAR
VERSION:2.0
PRODID:-//Squarespace Inc/Squarespace 6//v6//EN
BEGIN:VEVENT
UID:5ff7f3689c199e2374635cb2@squarespace.com
DTSTAMP:20210108T055549Z
DTSTART:20210110T050000Z
DTEND:20210110T070000Z
SUMMARY:Mick Trembath live at Cubby Haus Brewing
GEO:-37.577778;143.849735
LOCATION:Cubby Haus Brewing\, 884 Humffray Street South\, Mount Pleasant\, 
 VIC\, 3350\, Australia
END:VEVENT
END:VCALENDAR
