BEGIN:VCALENDAR
VERSION:2.0
PRODID:-//Squarespace Inc/Squarespace 6//v6//EN
BEGIN:VEVENT
UID:5e33622f12e7004a9ff0c2ae@squarespace.com
DTSTAMP:20200130T231045Z
DTSTART:20200215T180000Z
DTEND:20200216T210000Z
SUMMARY:A Midsummer Night's Dream  Matinee
GEO:-37.65256;143.887264
LOCATION:Buninnyong Botanic Gardens\, 201 Scott street\, Bunninyong
END:VEVENT
END:VCALENDAR
