BEGIN:VCALENDAR
VERSION:2.0
PRODID:-//Squarespace Inc/Squarespace 6//v6//EN
BEGIN:VEVENT
UID:5e3361f3547519363d70bb0f@squarespace.com
DTSTAMP:20200130T230922Z
DTSTART:20200215T000000Z
DTEND:20200217T030000Z
SUMMARY:A Midsummer Night's Dream 
GEO:-37.65256;143.887264
LOCATION:Buninnyong Botanic Gardens\, 201 Scott street\, Bunninyong
END:VEVENT
END:VCALENDAR
