BEGIN:VCALENDAR
VERSION:2.0
PRODID:-//Squarespace Inc/Squarespace 6//v6//EN
BEGIN:VEVENT
UID:5e33608b547519363d70586a@squarespace.com
DTSTAMP:20200130T230835Z
DTSTART:20200208T000000Z
DTEND:20200210T033000Z
SUMMARY:A Midsummer Night's Dream 
GEO:-37.65256;143.887264
LOCATION:Buninnyong Botanic Gardens\, 201 Scott street\, Bunninyong
END:VEVENT
END:VCALENDAR
