BEGIN:VCALENDAR
VERSION:2.0
PRODID:-//Squarespace Inc/Squarespace 6//v6//EN
BEGIN:VEVENT
UID:5e1be82951f223209a3d7904@squarespace.com
DTSTAMP:20200113T044837Z
DTSTART:20200208T150000Z
DTEND:20200208T170000Z
SUMMARY:Mix and Match - Jigsaw Printmaking
GEO:-37.561111;143.859722
LOCATION:Ballarat Trades Hall
END:VEVENT
END:VCALENDAR
