BEGIN:VCALENDAR
VERSION:2.0
PRODID:-//Squarespace Inc/Squarespace 6//v6//EN
BEGIN:VEVENT
UID:5d64b32fbbec900001738570@squarespace.com
DTSTAMP:20190827T043827Z
DTSTART:20190914T183000Z
DTEND:20190914T213000Z
SUMMARY:Mooncake Festival
GEO:-37.560436;143.858291
LOCATION:Art Gallery of Ballarat\, 40 Lydiard Street North\, Ballarat Centr
 al\, VIC\, 3350\, Australia
END:VEVENT
END:VCALENDAR
