BEGIN:VCALENDAR
VERSION:2.0
PRODID:-//Squarespace Inc/Squarespace 6//v6//EN
BEGIN:VEVENT
UID:5e3213c86fd544780ff0d27a@squarespace.com
DTSTAMP:20200129T232711Z
DTSTART:20200129T233000Z
DTEND:20200130T003000Z
SUMMARY:Community Information Session - Multicultural Festivals and Events 
 Grants
GEO:-37.562208;143.856619
LOCATION:Ballarat Town Hall\, Trench Room\, 225 Sturt Street\, Ballarat Cen
 tral\, VIC\, 3350\, Australia
END:VEVENT
END:VCALENDAR
