BEGIN:VCALENDAR
VERSION:2.0
PRODID:-//Squarespace Inc/Squarespace 6//v6//EN
BEGIN:VEVENT
UID:601a22234b3f130a4e7dd48d@squarespace.com
DTSTAMP:20210203T041218Z
DTSTART:20210218T080000Z
DTEND:20210218T110000Z
SUMMARY:Open Mic Night at Volta - Wax Lyrical 
GEO:-37.560588;143.859378
LOCATION:Volta\, 15 Field Street\, Ballarat Central\, VIC\, 3350\, Australi
 a
END:VEVENT
END:VCALENDAR
