BEGIN:VCALENDAR
VERSION:2.0
PRODID:-//Squarespace Inc/Squarespace 6//v6//EN
BEGIN:VEVENT
UID:5e57561ca362884fea8a8dd1@squarespace.com
DTSTAMP:20200227T054453Z
DTSTART:20200411T140000Z
DTEND:20200411T210000Z
SUMMARY:Open Studios - Ana Petidis
GEO:-37.633313;143.879135
LOCATION:8 Moss Avenue\, Mount Helen\, VIC\, 3350\, Australia
END:VEVENT
END:VCALENDAR
