BEGIN:VCALENDAR
VERSION:2.0
PRODID:-//Squarespace Inc/Squarespace 6//v6//EN
BEGIN:VEVENT
UID:5e5754c505c7f9197eaf3ca2@squarespace.com
DTSTAMP:20200227T053408Z
DTSTART:20200411T140000Z
DTEND:20200411T210000Z
SUMMARY:Open Studios - The Lost Ones Makers Gallery
GEO:-37.5614;143.859526
LOCATION:The Lost Ones Makers Studio\, 14 Camp Street\, Ballarat Central\, 
 VIC\, 3350\, Australia
END:VEVENT
END:VCALENDAR
