BEGIN:VCALENDAR
VERSION:2.0
PRODID:-//Squarespace Inc/Squarespace 6//v6//EN
BEGIN:VEVENT
UID:5e5755fbd241b63a4242bced@squarespace.com
DTSTAMP:20200227T053922Z
DTSTART:20200412T140000Z
DTEND:20200412T210000Z
SUMMARY:Open Studios - The Lost Ones Makers Gallery
GEO:-37.5614;143.859526
LOCATION:The Lost Ones Makers Studio\, 14 Camp Street\, Ballarat Central\, 
 VIC\, 3350\, Australia
END:VEVENT
END:VCALENDAR
