BEGIN:VCALENDAR
VERSION:2.0
PRODID:-//Squarespace Inc/Squarespace 6//v6//EN
BEGIN:VEVENT
UID:5e5753f53589c5496ff36176@squarespace.com
DTSTAMP:20200227T053357Z
DTSTART:20200404T140000Z
DTEND:20200404T210000Z
SUMMARY:Open Studios - The Lost Ones Makers Gallery
GEO:-37.5614;143.859526
LOCATION:The Lost Ones Makers Studio\, 14 Camp Street\, Ballarat Central\, 
 VIC\, 3350\, Australia
END:VEVENT
END:VCALENDAR
