BEGIN:VCALENDAR
VERSION:2.0
PRODID:-//Squarespace Inc/Squarespace 6//v6//EN
BEGIN:VEVENT
UID:5e574ae4db844f0ca13b25ae@squarespace.com
DTSTAMP:20200227T045215Z
DTSTART:20200405T140000Z
DTEND:20200405T210000Z
SUMMARY:Open Studios - Lynne Makings Studio
GEO:-37.549687;143.85826
LOCATION:513 Armstrong St North\, Soldiers Hill
END:VEVENT
END:VCALENDAR
