BEGIN:VCALENDAR
VERSION:2.0
PRODID:-//Squarespace Inc/Squarespace 6//v6//EN
BEGIN:VEVENT
UID:5e4e1ee02d11b67b4e16b894@squarespace.com
DTSTAMP:20200227T005703Z
DTSTART:20200412T140000Z
DTEND:20200412T210000Z
SUMMARY:Open Studios - Lynne Makings Studio
GEO:-37.549687;143.85826
LOCATION:513 Armstrong St North\, Soldiers Hill
END:VEVENT
END:VCALENDAR
